BEGIN:VCALENDAR
VERSION:2.0
PRODID:-//Alternatives Dettes - ECPv6.15.20//NONSGML v1.0//EN
CALSCALE:GREGORIAN
METHOD:PUBLISH
X-WR-CALNAME:Alternatives Dettes
X-ORIGINAL-URL:https://www.alternatives-dettes.ch
X-WR-CALDESC:Évènements pour Alternatives Dettes
REFRESH-INTERVAL;VALUE=DURATION:PT1H
X-Robots-Tag:noindex
X-PUBLISHED-TTL:PT1H
BEGIN:VTIMEZONE
TZID:Europe/Zurich
BEGIN:DAYLIGHT
TZOFFSETFROM:+0100
TZOFFSETTO:+0200
TZNAME:CEST
DTSTART:20250330T010000
END:DAYLIGHT
BEGIN:STANDARD
TZOFFSETFROM:+0200
TZOFFSETTO:+0100
TZNAME:CET
DTSTART:20251026T010000
END:STANDARD
BEGIN:DAYLIGHT
TZOFFSETFROM:+0100
TZOFFSETTO:+0200
TZNAME:CEST
DTSTART:20260329T010000
END:DAYLIGHT
BEGIN:STANDARD
TZOFFSETFROM:+0200
TZOFFSETTO:+0100
TZNAME:CET
DTSTART:20261025T010000
END:STANDARD
BEGIN:DAYLIGHT
TZOFFSETFROM:+0100
TZOFFSETTO:+0200
TZNAME:CEST
DTSTART:20270328T010000
END:DAYLIGHT
BEGIN:STANDARD
TZOFFSETFROM:+0200
TZOFFSETTO:+0100
TZNAME:CET
DTSTART:20271031T010000
END:STANDARD
END:VTIMEZONE
BEGIN:VEVENT
DTSTART;TZID=Europe/Zurich:20260504T180000
DTEND;TZID=Europe/Zurich:20260504T200000
DTSTAMP:20260421T093441
CREATED:20260417T133529Z
LAST-MODIFIED:20260417T133529Z
UID:2981-1777917600-1777924800@www.alternatives-dettes.ch
SUMMARY:Permanence impôts uniquement
DESCRIPTION:
URL:https://www.alternatives-dettes.ch/event/permanence-impots-uniquement-17/
LOCATION:Espace 8 Carouge\, Bvd des Promenades 8\, Carouge\, Genève\, 1227\, Switzerland
END:VEVENT
BEGIN:VEVENT
DTSTART;TZID=Europe/Zurich:20260506T180000
DTEND;TZID=Europe/Zurich:20260506T200000
DTSTAMP:20260421T093441
CREATED:20260417T134219Z
LAST-MODIFIED:20260417T134219Z
UID:2991-1778090400-1778097600@www.alternatives-dettes.ch
SUMMARY:Permanences désendettement et impôts
DESCRIPTION:
URL:https://www.alternatives-dettes.ch/event/permanences-desendettement-et-impots-3/
LOCATION:Espace 8 Carouge\, Bvd des Promenades 8\, Carouge\, Genève\, 1227\, Switzerland
END:VEVENT
BEGIN:VEVENT
DTSTART;TZID=Europe/Zurich:20260507T093000
DTEND;TZID=Europe/Zurich:20260507T123000
DTSTAMP:20260421T093441
CREATED:20260417T134519Z
LAST-MODIFIED:20260417T134519Z
UID:2997-1778146200-1778157000@www.alternatives-dettes.ch
SUMMARY:Permanences désendettement et impôts
DESCRIPTION:
URL:https://www.alternatives-dettes.ch/event/permanences-desendettement-et-impots-6/
LOCATION:Espace 8 Carouge\, Bvd des Promenades 8\, Carouge\, Genève\, 1227\, Switzerland
END:VEVENT
BEGIN:VEVENT
DTSTART;TZID=Europe/Zurich:20260507T093000
DTEND;TZID=Europe/Zurich:20260507T123000
DTSTAMP:20260421T093441
CREATED:20260417T134609Z
LAST-MODIFIED:20260417T134609Z
UID:2999-1778146200-1778157000@www.alternatives-dettes.ch
SUMMARY:Permanence juridique
DESCRIPTION:
URL:https://www.alternatives-dettes.ch/event/permanence-juridique/
LOCATION:Espace 8 Carouge\, Bvd des Promenades 8\, Carouge\, Genève\, 1227\, Switzerland
END:VEVENT
BEGIN:VEVENT
DTSTART;TZID=Europe/Zurich:20260511T180000
DTEND;TZID=Europe/Zurich:20260511T200000
DTSTAMP:20260421T093441
CREATED:20260417T133616Z
LAST-MODIFIED:20260417T133616Z
UID:2983-1778522400-1778529600@www.alternatives-dettes.ch
SUMMARY:Permanence impôts uniquement
DESCRIPTION:
URL:https://www.alternatives-dettes.ch/event/permanence-impots-uniquement-18/
LOCATION:Espace 8 Carouge\, Bvd des Promenades 8\, Carouge\, Genève\, 1227\, Switzerland
END:VEVENT
BEGIN:VEVENT
DTSTART;TZID=Europe/Zurich:20260512T100000
DTEND;TZID=Europe/Zurich:20260512T130000
DTSTAMP:20260421T093441
CREATED:20260417T133955Z
LAST-MODIFIED:20260417T133955Z
UID:2987-1778580000-1778590800@www.alternatives-dettes.ch
SUMMARY:Permanences désendettement et impôts
DESCRIPTION:
URL:https://www.alternatives-dettes.ch/event/permanences-desendettement-et-impots/
LOCATION:Espace de quartier de Champel\, Chemin Edouard-Tavan 5\, Genève\, Genève\, 1206\, Switzerland
END:VEVENT
BEGIN:VEVENT
DTSTART;TZID=Europe/Zurich:20260518T180000
DTEND;TZID=Europe/Zurich:20260518T200000
DTSTAMP:20260421T093441
CREATED:20260417T133706Z
LAST-MODIFIED:20260417T133706Z
UID:2985-1779127200-1779134400@www.alternatives-dettes.ch
SUMMARY:Permanence impôts uniquement
DESCRIPTION:
URL:https://www.alternatives-dettes.ch/event/permanence-impots-uniquement-19/
LOCATION:Espace 8 Carouge\, Bvd des Promenades 8\, Carouge\, Genève\, 1227\, Switzerland
END:VEVENT
BEGIN:VEVENT
DTSTART;TZID=Europe/Zurich:20260520T180000
DTEND;TZID=Europe/Zurich:20260520T200000
DTSTAMP:20260421T093441
CREATED:20260417T134311Z
LAST-MODIFIED:20260417T134311Z
UID:2993-1779300000-1779307200@www.alternatives-dettes.ch
SUMMARY:Permanences désendettement et impôts
DESCRIPTION:
URL:https://www.alternatives-dettes.ch/event/permanences-desendettement-et-impots-4/
LOCATION:Espace 8 Carouge\, Bvd des Promenades 8\, Carouge\, Genève\, 1227\, Switzerland
END:VEVENT
BEGIN:VEVENT
DTSTART;TZID=Europe/Zurich:20260521T093000
DTEND;TZID=Europe/Zurich:20260521T123000
DTSTAMP:20260421T093441
CREATED:20260417T134714Z
LAST-MODIFIED:20260417T134714Z
UID:3001-1779355800-1779366600@www.alternatives-dettes.ch
SUMMARY:Permanence juridique
DESCRIPTION:
URL:https://www.alternatives-dettes.ch/event/permanence-juridique-2/
LOCATION:Espace 8 Carouge\, Bvd des Promenades 8\, Carouge\, Genève\, 1227\, Switzerland
END:VEVENT
BEGIN:VEVENT
DTSTART;TZID=Europe/Zurich:20260521T093000
DTEND;TZID=Europe/Zurich:20260521T123000
DTSTAMP:20260421T093441
CREATED:20260417T134754Z
LAST-MODIFIED:20260417T134754Z
UID:3003-1779355800-1779366600@www.alternatives-dettes.ch
SUMMARY:Permanences désendettement et impôts
DESCRIPTION:
URL:https://www.alternatives-dettes.ch/event/permanences-desendettement-et-impots-7/
LOCATION:Espace 8 Carouge\, Bvd des Promenades 8\, Carouge\, Genève\, 1227\, Switzerland
END:VEVENT
BEGIN:VEVENT
DTSTART;TZID=Europe/Zurich:20260526T100000
DTEND;TZID=Europe/Zurich:20260526T130000
DTSTAMP:20260421T093441
CREATED:20260417T134040Z
LAST-MODIFIED:20260417T134040Z
UID:2989-1779789600-1779800400@www.alternatives-dettes.ch
SUMMARY:Permanences désendettement et impôts
DESCRIPTION:
URL:https://www.alternatives-dettes.ch/event/permanences-desendettement-et-impots-2/
LOCATION:Espace de quartier de Champel\, Chemin Edouard-Tavan 5\, Genève\, Genève\, 1206\, Switzerland
END:VEVENT
BEGIN:VEVENT
DTSTART;TZID=Europe/Zurich:20260527T180000
DTEND;TZID=Europe/Zurich:20260527T200000
DTSTAMP:20260421T093441
CREATED:20260417T134354Z
LAST-MODIFIED:20260417T134354Z
UID:2995-1779904800-1779912000@www.alternatives-dettes.ch
SUMMARY:Permanences désendettement et impôts
DESCRIPTION:
URL:https://www.alternatives-dettes.ch/event/permanences-desendettement-et-impots-5/
LOCATION:Espace 8 Carouge\, Bvd des Promenades 8\, Carouge\, Genève\, 1227\, Switzerland
END:VEVENT
END:VCALENDAR